BEGIN:VCALENDAR
VERSION:2.0
PRODID:-//freiburg.pink - ECPv6.15.20//NONSGML v1.0//EN
CALSCALE:GREGORIAN
METHOD:PUBLISH
X-ORIGINAL-URL:https://freiburg.pink
X-WR-CALDESC:Events for freiburg.pink
REFRESH-INTERVAL;VALUE=DURATION:PT1H
X-Robots-Tag:noindex
X-PUBLISHED-TTL:PT1H
BEGIN:VTIMEZONE
TZID:Europe/Berlin
BEGIN:DAYLIGHT
TZOFFSETFROM:+0100
TZOFFSETTO:+0200
TZNAME:CEST
DTSTART:20240331T010000
END:DAYLIGHT
BEGIN:STANDARD
TZOFFSETFROM:+0200
TZOFFSETTO:+0100
TZNAME:CET
DTSTART:20241027T010000
END:STANDARD
BEGIN:DAYLIGHT
TZOFFSETFROM:+0100
TZOFFSETTO:+0200
TZNAME:CEST
DTSTART:20250330T010000
END:DAYLIGHT
BEGIN:STANDARD
TZOFFSETFROM:+0200
TZOFFSETTO:+0100
TZNAME:CET
DTSTART:20251026T010000
END:STANDARD
BEGIN:DAYLIGHT
TZOFFSETFROM:+0100
TZOFFSETTO:+0200
TZNAME:CEST
DTSTART:20260329T010000
END:DAYLIGHT
BEGIN:STANDARD
TZOFFSETFROM:+0200
TZOFFSETTO:+0100
TZNAME:CET
DTSTART:20261025T010000
END:STANDARD
END:VTIMEZONE
BEGIN:VEVENT
DTSTART;TZID=Europe/Berlin:20250301T210000
DTEND;TZID=Europe/Berlin:20250302T040000
DTSTAMP:20260421T171200
CREATED:20231115T110000Z
LAST-MODIFIED:20260110T081307Z
UID:207-1740862800-1740888000@freiburg.pink
SUMMARY:Ball VerQueer 2025 · Freiburg
DESCRIPTION:Im Jahr 2026 wird leider kein Ball VerQueer stattfinden. BallVerqueer ist eine Benifiz-Veranstaltung von Aidshilfe Freiburg e.V. Tickets\n\nFotos 2025\n\nFotos 2024Instagram\n\ncheckpointaidshilfe.de
URL:https://freiburg.pink/event/ball-verqueer/
LOCATION:BALLHAUS\, Leo-Wohleb-Str. 1\, Freiburg\, 79102\, Germany
CATEGORIES:Baden,Freiburg,Germany,Party,Region,Schwarzwald
ATTACH;FMTTYPE=image/jpeg:https://freiburg.pink/wp-content/uploads/disco-square.jpg
END:VEVENT
END:VCALENDAR