BEGIN:VCALENDAR
VERSION:2.0
PRODID:-//freiburg.pink - ECPv6.15.20//NONSGML v1.0//EN
CALSCALE:GREGORIAN
METHOD:PUBLISH
X-ORIGINAL-URL:https://freiburg.pink
X-WR-CALDESC:Events for freiburg.pink
REFRESH-INTERVAL;VALUE=DURATION:PT1H
X-Robots-Tag:noindex
X-PUBLISHED-TTL:PT1H
BEGIN:VTIMEZONE
TZID:Europe/Berlin
BEGIN:DAYLIGHT
TZOFFSETFROM:+0100
TZOFFSETTO:+0200
TZNAME:CEST
DTSTART:20240331T010000
END:DAYLIGHT
BEGIN:STANDARD
TZOFFSETFROM:+0200
TZOFFSETTO:+0100
TZNAME:CET
DTSTART:20241027T010000
END:STANDARD
BEGIN:DAYLIGHT
TZOFFSETFROM:+0100
TZOFFSETTO:+0200
TZNAME:CEST
DTSTART:20250330T010000
END:DAYLIGHT
BEGIN:STANDARD
TZOFFSETFROM:+0200
TZOFFSETTO:+0100
TZNAME:CET
DTSTART:20251026T010000
END:STANDARD
BEGIN:DAYLIGHT
TZOFFSETFROM:+0100
TZOFFSETTO:+0200
TZNAME:CEST
DTSTART:20260329T010000
END:DAYLIGHT
BEGIN:STANDARD
TZOFFSETFROM:+0200
TZOFFSETTO:+0100
TZNAME:CET
DTSTART:20261025T010000
END:STANDARD
BEGIN:DAYLIGHT
TZOFFSETFROM:+0100
TZOFFSETTO:+0200
TZNAME:CEST
DTSTART:20270328T010000
END:DAYLIGHT
BEGIN:STANDARD
TZOFFSETFROM:+0200
TZOFFSETTO:+0100
TZNAME:CET
DTSTART:20271031T010000
END:STANDARD
END:VTIMEZONE
BEGIN:VEVENT
DTSTART;TZID=Europe/Berlin:20260401T000000
DTEND;TZID=Europe/Berlin:20260406T235959
DTSTAMP:20260421T153954
CREATED:20000211T051900Z
LAST-MODIFIED:20260331T040746Z
UID:62344-1775001600-1775519999@freiburg.pink
SUMMARY:Easter Leather & Fetish Week 2026 · Berlin
DESCRIPTION:Berlin Leather and Fetish Week is Europe’s premier event for leather\, rubber\, uniform\, sportswear\, and fetish enthusiasts. Instagram\n\nblf.de\n\ngaytravel4u.com
URL:https://freiburg.pink/event/easter-leather-fetish-week-berlin/
LOCATION:BERLIN\, Berlin\, Germany
CATEGORIES:Berlin,Events for Men,Festival,Festivals for Men*,Fetish Festivals,Germany,Kinky Party & Events,Region,X
ATTACH;FMTTYPE=image/jpeg:https://freiburg.pink/wp-content/uploads/easter-berlin.jpg
END:VEVENT
BEGIN:VEVENT
DTSTART;TZID=Europe/Berlin:20260327T000000
DTEND;TZID=Europe/Berlin:20260329T235959
DTSTAMP:20260421T153954
CREATED:20240210T060834Z
LAST-MODIFIED:20260227T062405Z
UID:52175-1774569600-1774828799@freiburg.pink
SUMMARY:Düssel-Cup 2026 · Düsseldorf
DESCRIPTION:Badminton | Basketball | Fußball | Laufen | Schwimmen | Sportschießen | Tischtennis | Volleyball duesselcup\n\nduessel-cup.de
URL:https://freiburg.pink/event/duessel-cup/
LOCATION:DÜSSELDORF\, Düsseldorf\, Germany
CATEGORIES:Germany,Region,Sport,Tournaments
ATTACH;FMTTYPE=image/jpeg:https://freiburg.pink/wp-content/uploads/duessel-cup.jpg
END:VEVENT
BEGIN:VEVENT
DTSTART;TZID=Europe/Berlin:20260314T220000
DTEND;TZID=Europe/Berlin:20260315T050000
DTSTAMP:20260421T153954
CREATED:20250107T053402Z
LAST-MODIFIED:20260302T055247Z
UID:69278-1773525600-1773550800@freiburg.pink
SUMMARY:My Purple Love · Romy S. · Stuttgart
DESCRIPTION:Am 14. März gibt es eine Special-Edition der My Purple Love\, dem gemeinsamen Partyformat von Lovepop & My Purple Heart. Ab 22 Uhr wird im Romy S. gemeinsam mit dem Sportverein Abseitz die grosse Abschlussparty des Sportturniers “Wild Wild South” gefeiert. Von 20.30 Uhr bis 22.00 Uhr gibt es ein “Get Together” nur für teilnehmende Sportler*innen\, ab 22.00 Uhr ist es eine öffentliche Party für alle. mypurpleheart.events\n\nschwulst.de
URL:https://freiburg.pink/event/my-purple/
LOCATION:ROMY S.\, Lange Str. 7\, Stuttgart\, 70173\, Germany
CATEGORIES:Party,Stuttgart
ATTACH;FMTTYPE=image/jpeg:https://freiburg.pink/wp-content/uploads/my-purple-heart.jpg
END:VEVENT
BEGIN:VEVENT
DTSTART;TZID=Europe/Berlin:20260313T000000
DTEND;TZID=Europe/Berlin:20260315T235959
DTSTAMP:20260421T153954
CREATED:20240210T060834Z
LAST-MODIFIED:20260307T183006Z
UID:51321-1773360000-1773619199@freiburg.pink
SUMMARY:Wild Wild South 2026 · Stuttgart
DESCRIPTION:Internationales Multisport-Turnier für die LSBTTIQ-Community & Friends Badminton | Fitness | Fußball | Sportschießen | Schwimmen | Tango | Tischtennis | Volleyball abseitz_e.v\n\nwildwildsouth.de
URL:https://freiburg.pink/event/wild-wild-south/
LOCATION:STUTTGART\, Stuttgart\, Germany
CATEGORIES:Germany,Region,Sport,Stuttgart,Tournaments
ATTACH;FMTTYPE=image/jpeg:https://freiburg.pink/wp-content/uploads/wild-wild-south-2026.jpg
END:VEVENT
BEGIN:VEVENT
DTSTART;TZID=Europe/Berlin:20260213T000000
DTEND;TZID=Europe/Berlin:20260215T235959
DTSTAMP:20260421T153954
CREATED:20000210T120059Z
LAST-MODIFIED:20260104T120125Z
UID:64016-1770940800-1771199999@freiburg.pink
SUMMARY:SEXY Carnival Festival 2026 · Cologne
DESCRIPTION:The Sexy Carnival Festival\, held during the Cologne Carnival\, showcases three days of the globe’s largest circuit events and top DJs. Ticketssexypartycologne\n\nsexyparty.cologne\n\ngaytravel4u.com
URL:https://freiburg.pink/event/sexy-carnival-cologne/
LOCATION:COLOGNE\, Cologne\, Germany
CATEGORIES:Cologne,EDM Festivals,Events for Men,Festival,Germany,Region,X
ATTACH;FMTTYPE=image/jpeg:https://freiburg.pink/wp-content/uploads/sexy-carneval-2026.jpg
END:VEVENT
BEGIN:VEVENT
DTSTART;TZID=Europe/Berlin:20260212T000000
DTEND;TZID=Europe/Berlin:20260222T235959
DTSTAMP:20260421T153954
CREATED:20000211T051900Z
LAST-MODIFIED:20260103T051117Z
UID:51103-1770854400-1771804799@freiburg.pink
SUMMARY:Berlinale 2026 · Teddy Awards · Berlin
DESCRIPTION:Der Teddy Award ist der weltweit erste offizielle LGBTI* Filmpreis auf einem A-Festival und wird seit 1987 im Rahmen der Internationalen Filmfestspiele Berlin (Berlinale) verliehen. Er zeichnet Filme mit queeren Inhalten in den Kategorien Kurz-\, Dokumentar- und Spielfilm aus und ist somit eine wichtige Auszeichnung für die Sichtbarkeit und Akzeptanz von LGBTI* Themen in der Filmbranche. Die Preisverleihung ist ein glamouröses Event und ein Höhepunkt im queeren Kulturkalender Berlins\, traditionell gefolgt von einer legendären Party. Instagram\n\nteddyaward.tv\n\nberlinale.de
URL:https://freiburg.pink/event/teddy-awards/
LOCATION:BERLIN\, Berlin\, Germany
CATEGORIES:Berlin,Film,Film Festivals,Germany,Region
ATTACH;FMTTYPE=image/jpeg:https://freiburg.pink/wp-content/uploads/teddy-award-40.jpg
END:VEVENT
BEGIN:VEVENT
DTSTART;TZID=Europe/Berlin:20260205T000000
DTEND;TZID=Europe/Berlin:20260211T235959
DTSTAMP:20260421T153954
CREATED:20260127T055650Z
LAST-MODIFIED:20260319T180947Z
UID:88307-1770249600-1770854399@freiburg.pink
SUMMARY:Schwule Filmtage 2026 · Mannheim
DESCRIPTION:Schwule Filmtage – zum 30. Mal bringen wir im Cinema Quadrat die besten schwulen Filme der Saison\, für schwul\, hetero und alles dazwischen! In unserem handverlesenen Programm reisen wir von Brooklyn in einen verwunschenen Wald; erleben die erschütternden Realitäten der Konversionstherapie; geraten in eine BDSM-Beziehung im Bikermilieu; treffen einen Brasilianer auf Cape Cod; begleiten eine Reise zur Hochzeit in Las Vegas; blicken in die queeren Szenen von Rio de Janeiro und Amsterdam. Und wir ehren den im Dezember verstorbenen Rosa von Praunheim mit seinem Teddy-Award-Gewinnerfilm SATANISCHE SAU in Anwesenheit von Hauptdarsteller Armin Dallapiccola! Während der Schwulen Filmtage gibt es eine Jubiläums-Infoausstellung der Lesbisch-Schwulen Geschichtswerkstatt Rhein-Neckar im Kinofoyer. Zur Eröffnung spricht Bürgermeister Thorsten Riehle ein Grußwort. Zur Eröffnung gibt es für alle ein Begrüßungsgetränk! SpielplanDRUNKEN NOODLESDo. 6.2.\, 19:30 Uhr & Mo. 9.2.\, 17:30 Uhr LILIES NOT FOR MEDo. 6.2.\, 21:30 Uhr & Mi. 11.2.\, 19:30 Uhr OUTFr. 6.2.\, 19:30 Uhr & M1. 11.2.\, 17:30 Uhr HIGH TIDEFr. 6. 2.\, 21:30 Uhr & Mo. 9.2.\, 19:30 Uhr WER WILL SCHON EINEN ASTRONAUTEN HEIRATEN?Sa. 8.2.\, 19:30 Uhr & So. 8.2.\, 17:30 Uhr ALLES WAS BRENNTSa. 7.2.\, 21:30 Uhr SATANISCHE SAUSo. 9.2.\, 19:30 Uhr (in Anwesenheit des Hauptdarstellers) & Di. 10.2.\, 17:30 Uhr PILLIONDi. 10.2.\, 19:30 Uhr cinema_quadrat\n\ncinema-quadrat.de
URL:https://freiburg.pink/event/schwule-filmtage-mannheim/
LOCATION:CINEMA QUADRAT\, K1 2\, Mannheim\, 68159\, Germany
CATEGORIES:Events for Men,Film,Film Festivals,Germany,Mannheim
ATTACH;FMTTYPE=image/jpeg:https://freiburg.pink/wp-content/uploads/high-tide.jpg
END:VEVENT
BEGIN:VEVENT
DTSTART;TZID=Europe/Berlin:20260115T000000
DTEND;TZID=Europe/Berlin:20260118T235959
DTSTAMP:20260421T153954
CREATED:20000203T070749Z
LAST-MODIFIED:20251214T073317Z
UID:62049-1768435200-1768780799@freiburg.pink
SUMMARY:Bärenpaadii XXL 2026 · Hamburg
DESCRIPTION:The legendary Nordbären Bärenpaadiie XXL attracts more than 1500 bears and friends to the city of Hamburg in Germany. With everything from cozy saunas to bear-themed bowling and scenic harbour tours\, there’s something for every bear and their friends. Instagram\n\nnordbaeren-hamburg.de\n\ngaytravel4u.com
URL:https://freiburg.pink/event/baerenpaadii-hamburg/
LOCATION:HAMBURG\, Hamburg\, Germany
CATEGORIES:Bear Festivals,Events for Men,Festival,Festivals for Men*,Germany,Hamburg,Region,X
ATTACH;FMTTYPE=image/jpeg:https://freiburg.pink/wp-content/uploads/bear-pride-logo.jpg
END:VEVENT
BEGIN:VEVENT
DTSTART;TZID=Europe/Berlin:20251205T000000
DTEND;TZID=Europe/Berlin:20251207T235959
DTSTAMP:20260421T153954
CREATED:20240210T060834Z
LAST-MODIFIED:20251124T163027Z
UID:51367-1764892800-1765151999@freiburg.pink
SUMMARY:XMAS-Tournament 2025 · Frankfurt
DESCRIPTION:Badminton | Bowling | Fußball | Laufen | Schwimmen | Squash | Tanzen | Tennis | Volleyball frankfurtervolleyballverein\n\nfvv-xmas.org
URL:https://freiburg.pink/event/xmas-tournament/
LOCATION:FRANKFURT\, Frankfurt\, Germany
CATEGORIES:Germany,Region,Sport,Tournaments
ATTACH;FMTTYPE=image/png:https://freiburg.pink/wp-content/uploads/sport.png
END:VEVENT
BEGIN:VEVENT
DTSTART;TZID=Europe/Berlin:20251128T000000
DTEND;TZID=Europe/Berlin:20251201T235959
DTSTAMP:20260421T153954
CREATED:20000210T120059Z
LAST-MODIFIED:20251124T041049Z
UID:64759-1764288000-1764633599@freiburg.pink
SUMMARY:SEXY · St. Nicholas Festival 2025 · Cologne
DESCRIPTION:sexypartycologne\n\nsexyparty.cologne
URL:https://freiburg.pink/event/st-nicholas-festival/
LOCATION:COLOGNE\, Cologne\, Germany
CATEGORIES:Cologne,EDM Festivals,Events for Men,Festival,Germany,Region,X
ATTACH;FMTTYPE=image/jpeg:https://freiburg.pink/wp-content/uploads/st-nicolas-festival-cologne-2025.jpg
END:VEVENT
BEGIN:VEVENT
DTSTART;TZID=Europe/Berlin:20251119T000000
DTEND;TZID=Europe/Berlin:20251123T235959
DTSTAMP:20260421T153954
CREATED:20000203T070749Z
LAST-MODIFIED:20251121T045852Z
UID:63996-1763510400-1763942399@freiburg.pink
SUMMARY:Bear Pride 2025 · Cologne
DESCRIPTION:Bear Pride Cologne is a prominent annual festival held in late November that celebrates the Bear community with a vibrant schedule of parties\, contests\, and social gatherings. The event attracts international visitors and offers a welcoming atmosphere. bear_pride_cologne\n\nbearpride.cologne\n\ngaytravel4u.com
URL:https://freiburg.pink/event/bear-pride-cologne/
LOCATION:COLOGNE\, Cologne\, Germany
CATEGORIES:Bear Festivals,Cologne,Events for Men,Festival,Festivals for Men*,Germany,Region,X
ATTACH;FMTTYPE=image/jpeg:https://freiburg.pink/wp-content/uploads/bear-pride-cologne-2026.jpg
END:VEVENT
BEGIN:VEVENT
DTSTART;TZID=Europe/Berlin:20250720T000000
DTEND;TZID=Europe/Berlin:20250720T235959
DTSTAMP:20260421T153954
CREATED:20211130T063456Z
LAST-MODIFIED:20250702T043030Z
UID:29411-1752969600-1753055999@freiburg.pink
SUMMARY:CSD Konstanz 2025
DESCRIPTION:Der CSD Konstanz\, auch bekannt als “CSD am See”\, ist ein jährliches Highlight\, das neben der traditionellen Demonstration und Kundgebung auch kulturelle Veranstaltungen\, Partys und Workshops umfasst. ZeitProgrammOrt12:00Start ParadeHerosé-Park14:00KundgebungStadtgartencsdamsee\n\ncsd-konstanz.de
URL:https://freiburg.pink/event/csd-konstanz/
LOCATION:KONSTANZ\, Konstanz
CATEGORIES:Baden,Bodensee,Germany,Konstanz,Pride,Region,Region
ATTACH;FMTTYPE=image/jpeg:https://freiburg.pink/wp-content/uploads/pride-flag.jpg
END:VEVENT
BEGIN:VEVENT
DTSTART;TZID=Europe/Berlin:20250529T000000
DTEND;TZID=Europe/Berlin:20250601T235959
DTSTAMP:20260421T153954
CREATED:20250101T055124Z
LAST-MODIFIED:20260214T070429Z
UID:68341-1748476800-1748822399@freiburg.pink
SUMMARY:XPOSED Film Festival 2025 · Berlin
DESCRIPTION:The Xposed Queer Film Festival in Berlin is an annual event showcasing a diverse selection of queer films\, including shorts and features. It aims to highlight the development of queer life and cinema through both contemporary works and rediscovered classics. Instagram\n\nxposedfilmfestival.com
URL:https://freiburg.pink/event/xposed-film-festival/
LOCATION:BERLIN\, Berlin\, Germany
CATEGORIES:Berlin,Film,Film Festivals,Germany,Region,X
END:VEVENT
BEGIN:VEVENT
DTSTART;TZID=Europe/Berlin:20250508T180000
DTEND;TZID=Europe/Berlin:20250508T230000
DTSTAMP:20260421T153954
CREATED:20250308T145358Z
LAST-MODIFIED:20250621T045354Z
UID:72701-1746727200-1746745200@freiburg.pink
SUMMARY:Empore Amore 2025 · Kerle Party · Stuttgart
DESCRIPTION:Die neue Kerle-Party auf dem Cannstatter Frühlingsfest Instagram\n\nstuttgarter-baeren.de
URL:https://freiburg.pink/event/empore-amore-2025/
LOCATION:STUTTGART\, Stuttgart\, Germany
CATEGORIES:Events for Men,Germany,Party,Region,Stuttgart,X
END:VEVENT
BEGIN:VEVENT
DTSTART;TZID=Europe/Berlin:20250425T000000
DTEND;TZID=Europe/Berlin:20250515T235959
DTSTAMP:20260421T153954
CREATED:20250830T045453Z
LAST-MODIFIED:20250830T050634Z
UID:79852-1745539200-1747353599@freiburg.pink
SUMMARY:Lesbian Visibility Week 2025 · Köln
DESCRIPTION:Die “Kölner Lesbian Visibility Weeks” bieten eine Gelegenheit\, die Vielfalt und die verschiedenen Aspekte lesbischen Lebens zu feiern. stadt-koeln.de
URL:https://freiburg.pink/event/lesbian-visibility-weeks-cologne/
LOCATION:COLOGNE\, Cologne\, Germany
CATEGORIES:Cologne,Events for Women,Festival,Festivals for Women*,Germany,Region,X
ATTACH;FMTTYPE=image/jpeg:https://freiburg.pink/wp-content/uploads/lesbian-flag.jpg
END:VEVENT
BEGIN:VEVENT
DTSTART;TZID=Europe/Berlin:20250301T210000
DTEND;TZID=Europe/Berlin:20250302T040000
DTSTAMP:20260421T153954
CREATED:20231115T110000Z
LAST-MODIFIED:20260110T081307Z
UID:207-1740862800-1740888000@freiburg.pink
SUMMARY:Ball VerQueer 2025 · Freiburg
DESCRIPTION:Im Jahr 2026 wird leider kein Ball VerQueer stattfinden. BallVerqueer ist eine Benifiz-Veranstaltung von Aidshilfe Freiburg e.V. Tickets\n\nFotos 2025\n\nFotos 2024Instagram\n\ncheckpointaidshilfe.de
URL:https://freiburg.pink/event/ball-verqueer/
LOCATION:BALLHAUS\, Leo-Wohleb-Str. 1\, Freiburg\, 79102\, Germany
CATEGORIES:Baden,Freiburg,Germany,Party,Region,Schwarzwald
ATTACH;FMTTYPE=image/jpeg:https://freiburg.pink/wp-content/uploads/disco-square.jpg
END:VEVENT
END:VCALENDAR