BEGIN:VCALENDAR
VERSION:2.0
PRODID:-//freiburg.pink - ECPv6.15.20//NONSGML v1.0//EN
CALSCALE:GREGORIAN
METHOD:PUBLISH
X-WR-CALNAME:freiburg.pink
X-ORIGINAL-URL:https://freiburg.pink
X-WR-CALDESC:Events for freiburg.pink
REFRESH-INTERVAL;VALUE=DURATION:PT1H
X-Robots-Tag:noindex
X-PUBLISHED-TTL:PT1H
BEGIN:VTIMEZONE
TZID:Europe/Berlin
BEGIN:DAYLIGHT
TZOFFSETFROM:+0100
TZOFFSETTO:+0200
TZNAME:CEST
DTSTART:20250330T010000
END:DAYLIGHT
BEGIN:STANDARD
TZOFFSETFROM:+0200
TZOFFSETTO:+0100
TZNAME:CET
DTSTART:20251026T010000
END:STANDARD
BEGIN:DAYLIGHT
TZOFFSETFROM:+0100
TZOFFSETTO:+0200
TZNAME:CEST
DTSTART:20260329T010000
END:DAYLIGHT
BEGIN:STANDARD
TZOFFSETFROM:+0200
TZOFFSETTO:+0100
TZNAME:CET
DTSTART:20261025T010000
END:STANDARD
BEGIN:DAYLIGHT
TZOFFSETFROM:+0100
TZOFFSETTO:+0200
TZNAME:CEST
DTSTART:20270328T010000
END:DAYLIGHT
BEGIN:STANDARD
TZOFFSETFROM:+0200
TZOFFSETTO:+0100
TZNAME:CET
DTSTART:20271031T010000
END:STANDARD
END:VTIMEZONE
BEGIN:VEVENT
DTSTART;TZID=Europe/Berlin:20260731T000000
DTEND;TZID=Europe/Berlin:20260801T235959
DTSTAMP:20260423T152649
CREATED:20260102T150745Z
LAST-MODIFIED:20260102T150749Z
UID:86021-1785456000-1785628799@freiburg.pink
SUMMARY:WorldPride Music Festival · Amsterdam
DESCRIPTION:WORLD PRIDE MUSIC FESTIVAL COMES TO AMSTERDAM IN 2026 FOR AN UNFORGETTABLE TWO-NIGHT CELEBRATION OF MUSIC\, UNITY\, AND PRIDE. Set against the iconic canals and vibrant culture of one of Europe’s most LGBTQ+ inclusive cities\, this landmark festival will bring together global headliners\, cutting-edge DJs\, and thousands of revelers from around the world. Expect high-energy performances\, immersive production\, and the freedom to be unapologetically yourself—all night and into the sunrise. worldpridemusicfestival\n\nworldpridefest.com
URL:https://freiburg.pink/event/worldpride-music-festival-%c2%b7-amsterdam/
LOCATION:AMSTERDAM\, Amsterdam\, Netherlands
CATEGORIES:Benelux,EDM Festivals,Europe,Festival
ATTACH;FMTTYPE=image/jpeg:https://freiburg.pink/wp-content/uploads/world-pride-music-festival.jpg
END:VEVENT
BEGIN:VEVENT
DTSTART;TZID=Europe/Berlin:20260731T000000
DTEND;TZID=Europe/Berlin:20260802T235959
DTSTAMP:20260423T152649
CREATED:20241217T162517Z
LAST-MODIFIED:20251214T073921Z
UID:66471-1785456000-1785715199@freiburg.pink
SUMMARY:Rapido Pride Weekend 2026 · Amsterdam
DESCRIPTION:Rapido\, one of the largest gay parties in Amsterdam\, will host a weekend of events during Amsterdam Pride\, featuring top DJs and incredible gogo performances. rapidoevents\n\nclubrapido.com\n\ngaytravel4u.com
URL:https://freiburg.pink/event/rapido-pride-weekend/
LOCATION:AMSTERDAM\, Amsterdam\, Netherlands
CATEGORIES:Benelux,EDM Festivals,Europe,Events for Men,Festival,Region,X
ATTACH;FMTTYPE=image/jpeg:https://freiburg.pink/wp-content/uploads/rapido.jpg
END:VEVENT
BEGIN:VEVENT
DTSTART;TZID=Europe/Berlin:20260801T000000
DTEND;TZID=Europe/Berlin:20260801T235959
DTSTAMP:20260423T152649
CREATED:20000210T120836Z
LAST-MODIFIED:20250904T055449Z
UID:51059-1785542400-1785628799@freiburg.pink
SUMMARY:Pride Amsterdam 2026
DESCRIPTION:prideamsterdam\n\npride.amsterdam\n\ngaytravel4u.com
URL:https://freiburg.pink/event/pride-amsterdam/
LOCATION:AMSTERDAM\, Amsterdam\, Netherlands
CATEGORIES:Benelux,Europe,Pride,Region,X
ATTACH;FMTTYPE=image/jpeg:https://freiburg.pink/wp-content/uploads/pride-flag.jpg
END:VEVENT
BEGIN:VEVENT
DTSTART;TZID=Europe/Berlin:20260808T000000
DTEND;TZID=Europe/Berlin:20260808T235959
DTSTAMP:20260423T152649
CREATED:20250102T065245Z
LAST-MODIFIED:20260102T151038Z
UID:68512-1786147200-1786233599@freiburg.pink
SUMMARY:Pride Antwerp 2026
DESCRIPTION:Antwerp Pride is an annual pride festival held in Antwerp\, Belgium\, typically in August\, with recent editions attracting around 150\,000-170\,000 attendees. It features a week of events including parties\, cultural activities\, and a parade to celebrate diversity and promote equality for the rainbow community. AntwerpPride\n\nantwerppride.com\n\ngaytravel4u.com
URL:https://freiburg.pink/event/pride-antwerp/
LOCATION:ANTWERP\, Antwerp\, Belgium
CATEGORIES:Benelux,Europe,Pride,X
ATTACH;FMTTYPE=image/jpeg:https://freiburg.pink/wp-content/uploads/pride-flag.jpg
END:VEVENT
BEGIN:VEVENT
DTSTART;TZID=Europe/Berlin:20260828T000000
DTEND;TZID=Europe/Berlin:20260830T235959
DTSTAMP:20260423T152649
CREATED:20251214T061634Z
LAST-MODIFIED:20251214T061901Z
UID:85265-1787875200-1788134399@freiburg.pink
SUMMARY:Brussels Games 2026 · Brussels
DESCRIPTION:Badminton | Fußball | Schwimmen | Volleyball Instagram\n\nbrusselsgames.bgs.org
URL:https://freiburg.pink/event/brussels-games/
LOCATION:COLOGNE\, Cologne\, Germany
CATEGORIES:Benelux,Region,Sport,Tournaments
ATTACH;FMTTYPE=image/png:https://freiburg.pink/wp-content/uploads/sport.png
END:VEVENT
BEGIN:VEVENT
DTSTART;TZID=Europe/Berlin:20260829T000000
DTEND;TZID=Europe/Berlin:20260829T235959
DTSTAMP:20260423T152649
CREATED:20250102T063918Z
LAST-MODIFIED:20260308T153420Z
UID:68506-1787961600-1788047999@freiburg.pink
SUMMARY:Superflirt Festival 2026 · Amsterdam
DESCRIPTION:Superflirt Festival in Amsterdam is a vibrant\, one-day open-minded festival held annually at Kaap Amsterdam. It’s a celebration with multiple stages hosted by prominent figures from the rainbow community\, featuring DJs\, live performances\, drag queens\, and dancers\, inviting attendees to flirt\, rave\, and dance. superflirtfestival\n\nsuperflirtfestival.nl\n\ngaytravel4u.com
URL:https://freiburg.pink/event/superflirt-festival-amsterdam/
LOCATION:AMSTERDAM\, Amsterdam\, Netherlands
CATEGORIES:Benelux,EDM Festivals,Europe,Festival,Region
ATTACH;FMTTYPE=image/png:https://freiburg.pink/wp-content/uploads/festival.png
END:VEVENT
END:VCALENDAR