BEGIN:VCALENDAR
VERSION:2.0
PRODID:-//freiburg.pink - ECPv6.15.20//NONSGML v1.0//EN
CALSCALE:GREGORIAN
METHOD:PUBLISH
X-WR-CALNAME:freiburg.pink
X-ORIGINAL-URL:https://freiburg.pink
X-WR-CALDESC:Events for freiburg.pink
REFRESH-INTERVAL;VALUE=DURATION:PT1H
X-Robots-Tag:noindex
X-PUBLISHED-TTL:PT1H
BEGIN:VTIMEZONE
TZID:Europe/Berlin
BEGIN:DAYLIGHT
TZOFFSETFROM:+0100
TZOFFSETTO:+0200
TZNAME:CEST
DTSTART:20230326T010000
END:DAYLIGHT
BEGIN:STANDARD
TZOFFSETFROM:+0200
TZOFFSETTO:+0100
TZNAME:CET
DTSTART:20231029T010000
END:STANDARD
BEGIN:DAYLIGHT
TZOFFSETFROM:+0100
TZOFFSETTO:+0200
TZNAME:CEST
DTSTART:20240331T010000
END:DAYLIGHT
BEGIN:STANDARD
TZOFFSETFROM:+0200
TZOFFSETTO:+0100
TZNAME:CET
DTSTART:20241027T010000
END:STANDARD
BEGIN:DAYLIGHT
TZOFFSETFROM:+0100
TZOFFSETTO:+0200
TZNAME:CEST
DTSTART:20250330T010000
END:DAYLIGHT
BEGIN:STANDARD
TZOFFSETFROM:+0200
TZOFFSETTO:+0100
TZNAME:CET
DTSTART:20251026T010000
END:STANDARD
BEGIN:DAYLIGHT
TZOFFSETFROM:+0100
TZOFFSETTO:+0200
TZNAME:CEST
DTSTART:20260329T010000
END:DAYLIGHT
BEGIN:STANDARD
TZOFFSETFROM:+0200
TZOFFSETTO:+0100
TZNAME:CET
DTSTART:20261025T010000
END:STANDARD
END:VTIMEZONE
BEGIN:VEVENT
DTSTART;TZID=Europe/Berlin:20251101T230000
DTEND;TZID=Europe/Berlin:20251102T050000
DTSTAMP:20260421T102520
CREATED:20231113T062212Z
LAST-MODIFIED:20251031T154231Z
UID:62419-1762038000-1762059600@freiburg.pink
SUMMARY:Zombie Baby · Heimat · Basel
DESCRIPTION:For Queers & Allies – Beats\, Performances\, Candy & Dark Magic heimatbasel\n\nheimatbasel.com
URL:https://freiburg.pink/event/zombie-baby/
LOCATION:HEIMAT\, Erlenstr. 59\, Basel\, 4058\, Switzerland
CATEGORIES:Basel,Halloween,Party,Region,Switzerland
ATTACH;FMTTYPE=image/jpeg:https://freiburg.pink/wp-content/uploads/zombie-baby-queer-halloween-heimat-basel.jpg
END:VEVENT
BEGIN:VEVENT
DTSTART;TZID=Europe/Berlin:20241026T220000
DTEND;TZID=Europe/Berlin:20241027T060000
DTSTAMP:20260421T102520
CREATED:20221206T155356Z
LAST-MODIFIED:20250302T180151Z
UID:29951-1729980000-1730008800@freiburg.pink
SUMMARY:So Crazy Club · Strasbourg
DESCRIPTION:socrazyclub
URL:https://freiburg.pink/event/so-crazy-club/
LOCATION:SO CRAZY CLUB\, 8 Pass. de Londres\, Strasbourg\, 67000
CATEGORIES:France,Halloween,Party,Region,Strasbourg
END:VEVENT
END:VCALENDAR