BEGIN:VCALENDAR
VERSION:2.0
PRODID:-//freiburg.pink - ECPv6.15.20//NONSGML v1.0//EN
CALSCALE:GREGORIAN
METHOD:PUBLISH
X-WR-CALNAME:freiburg.pink
X-ORIGINAL-URL:https://freiburg.pink
X-WR-CALDESC:Events for freiburg.pink
REFRESH-INTERVAL;VALUE=DURATION:PT1H
X-Robots-Tag:noindex
X-PUBLISHED-TTL:PT1H
BEGIN:VTIMEZONE
TZID:Europe/Berlin
BEGIN:DAYLIGHT
TZOFFSETFROM:+0100
TZOFFSETTO:+0200
TZNAME:CEST
DTSTART:20250330T010000
END:DAYLIGHT
BEGIN:STANDARD
TZOFFSETFROM:+0200
TZOFFSETTO:+0100
TZNAME:CET
DTSTART:20251026T010000
END:STANDARD
BEGIN:DAYLIGHT
TZOFFSETFROM:+0100
TZOFFSETTO:+0200
TZNAME:CEST
DTSTART:20260329T010000
END:DAYLIGHT
BEGIN:STANDARD
TZOFFSETFROM:+0200
TZOFFSETTO:+0100
TZNAME:CET
DTSTART:20261025T010000
END:STANDARD
BEGIN:DAYLIGHT
TZOFFSETFROM:+0100
TZOFFSETTO:+0200
TZNAME:CEST
DTSTART:20270328T010000
END:DAYLIGHT
BEGIN:STANDARD
TZOFFSETFROM:+0200
TZOFFSETTO:+0100
TZNAME:CET
DTSTART:20271031T010000
END:STANDARD
END:VTIMEZONE
BEGIN:VEVENT
DTSTART;TZID=Europe/Berlin:20260115T000000
DTEND;TZID=Europe/Berlin:20260118T235959
DTSTAMP:20260421T115138
CREATED:20000203T070749Z
LAST-MODIFIED:20251214T073317Z
UID:62049-1768435200-1768780799@freiburg.pink
SUMMARY:Bärenpaadii XXL 2026 · Hamburg
DESCRIPTION:The legendary Nordbären Bärenpaadiie XXL attracts more than 1500 bears and friends to the city of Hamburg in Germany. With everything from cozy saunas to bear-themed bowling and scenic harbour tours\, there’s something for every bear and their friends. Instagram\n\nnordbaeren-hamburg.de\n\ngaytravel4u.com
URL:https://freiburg.pink/event/baerenpaadii-hamburg/
LOCATION:HAMBURG\, Hamburg\, Germany
CATEGORIES:Bear Festivals,Events for Men,Festival,Festivals for Men*,Germany,Hamburg,Region,X
ATTACH;FMTTYPE=image/jpeg:https://freiburg.pink/wp-content/uploads/bear-pride-logo.jpg
END:VEVENT
END:VCALENDAR